Package: mapscape Version: 1.34.0 Command: /Library/Frameworks/R.framework/Resources/bin/R CMD build --keep-empty-dirs --no-resave-data mapscape StartedAt: 2025-11-03 17:36:05 -0500 (Mon, 03 Nov 2025) EndedAt: 2025-11-03 17:36:20 -0500 (Mon, 03 Nov 2025) EllapsedTime: 14.9 seconds RetCode: 0 Status: OK PackageFile: mapscape_1.34.0.tar.gz PackageFileSize: 4.794 MiB