Package: mapscape Version: 1.32.0 Command: /home/biocbuild/R/R/bin/R CMD build --keep-empty-dirs --no-resave-data mapscape StartedAt: 2025-10-14 02:06:19 -0000 (Tue, 14 Oct 2025) EndedAt: 2025-10-14 02:06:31 -0000 (Tue, 14 Oct 2025) EllapsedTime: 12.0 seconds RetCode: 0 Status: OK PackageFile: mapscape_1.32.0.tar.gz PackageFileSize: 4.915 MiB