Package: makecdfenv Version: 1.86.0 Command: /home/biocbuild/bbs-3.22-bioc/R/bin/R CMD INSTALL makecdfenv StartedAt: 2025-11-11 15:17:16 -0500 (Tue, 11 Nov 2025) EndedAt: 2025-11-11 15:17:22 -0500 (Tue, 11 Nov 2025) EllapsedTime: 6.1 seconds RetCode: 0 Status: OK