Package: makecdfenv Version: 1.86.0 Command: /home/biocbuild/bbs-3.22-bioc/R/bin/R CMD build --keep-empty-dirs --no-resave-data --md5 makecdfenv StartedAt: 2025-11-11 18:31:58 -0500 (Tue, 11 Nov 2025) EndedAt: 2025-11-11 18:32:07 -0500 (Tue, 11 Nov 2025) EllapsedTime: 9.0 seconds RetCode: 0 Status: OK PackageFile: makecdfenv_1.86.0.tar.gz PackageFileSize: 3.259 MiB