Package: makecdfenv Version: 1.84.0 Command: /home/biocbuild/bbs-3.21-bioc/R/bin/R CMD INSTALL makecdfenv StartedAt: 2025-10-12 15:12:41 -0400 (Sun, 12 Oct 2025) EndedAt: 2025-10-12 15:12:46 -0400 (Sun, 12 Oct 2025) EllapsedTime: 4.6 seconds RetCode: 0 Status: OK