Package: makecdfenv Version: 1.84.0 Command: rm -rf makecdfenv.buildbin-libdir && mkdir makecdfenv.buildbin-libdir && /Users/biocbuild/BBS/utils/build-universal.sh makecdfenv_1.84.0.tar.gz /Library/Frameworks/R.framework/Resources/bin/R makecdfenv.buildbin-libdir StartedAt: 2025-04-21 22:40:36 -0400 (Mon, 21 Apr 2025) EndedAt: 2025-04-21 22:40:42 -0400 (Mon, 21 Apr 2025) EllapsedTime: 6.1 seconds RetCode: 0 Status: OK PackageFile: makecdfenv_1.84.0.tgz PackageFileSize: 3.424 MiB