Package: makecdfenv Version: 1.84.0 Maintainer: James W. MacDonald MaintainerEmail: jmacdon at u.washington.edu git_url: https://git.bioconductor.org/packages/makecdfenv git_branch: RELEASE_3_21 git_last_commit: efb808c git_last_commit_date: 2025-04-15 09:16:16 -0400 (Tue, 15 Apr 2025)