Package: magpie Version: 1.8.0 Command: /home/biocbuild/R/R/bin/R CMD INSTALL magpie StartedAt: 2025-10-13 20:54:47 -0000 (Mon, 13 Oct 2025) EndedAt: 2025-10-13 20:55:44 -0000 (Mon, 13 Oct 2025) EllapsedTime: 57.3 seconds RetCode: 0 Status: OK