Package: magpie Version: 1.10.0 Command: rm -rf magpie.buildbin-libdir && mkdir magpie.buildbin-libdir && /Users/biocbuild/BBS/utils/build-universal.sh magpie_1.10.0.tar.gz /Library/Frameworks/R.framework/Resources/bin/R magpie.buildbin-libdir StartedAt: 2025-10-31 23:12:21 -0400 (Fri, 31 Oct 2025) EndedAt: 2025-10-31 23:12:38 -0400 (Fri, 31 Oct 2025) EllapsedTime: 17.4 seconds RetCode: 0 Status: OK PackageFile: magpie_1.10.0.tgz PackageFileSize: 2.114 MiB