Package: maftools Version: 2.26.0 Command: /home/biocbuild/bbs-3.22-bioc/R/bin/R CMD build --keep-empty-dirs --no-resave-data --md5 maftools StartedAt: 2025-11-11 18:31:10 -0500 (Tue, 11 Nov 2025) EndedAt: 2025-11-11 18:34:11 -0500 (Tue, 11 Nov 2025) EllapsedTime: 181.1 seconds RetCode: 0 Status: OK PackageFile: maftools_2.26.0.tar.gz PackageFileSize: 11.9 MiB