Package: maftools Version: 2.26.0 Command: rm -rf maftools.buildbin-libdir && mkdir maftools.buildbin-libdir && /Users/biocbuild/BBS/utils/build-universal.sh maftools_2.26.0.tar.gz /Library/Frameworks/R.framework/Resources/bin/R maftools.buildbin-libdir StartedAt: 2025-11-01 01:41:29 -0400 (Sat, 01 Nov 2025) EndedAt: 2025-11-01 01:42:04 -0400 (Sat, 01 Nov 2025) EllapsedTime: 34.9 seconds RetCode: 0 Status: OK PackageFile: maftools_2.26.0.tgz PackageFileSize: 13.1 MiB