Package: maftools Version: 2.24.0 Command: /home/biocbuild/R/R/bin/R CMD INSTALL maftools StartedAt: 2025-10-09 20:23:46 -0000 (Thu, 09 Oct 2025) EndedAt: 2025-10-09 20:24:09 -0000 (Thu, 09 Oct 2025) EllapsedTime: 22.5 seconds RetCode: 0 Status: OK