Package: maftools Version: 2.24.0 Command: /home/biocbuild/R/R/bin/R CMD build --keep-empty-dirs --no-resave-data maftools StartedAt: 2025-10-10 02:04:25 -0000 (Fri, 10 Oct 2025) EndedAt: 2025-10-10 02:09:00 -0000 (Fri, 10 Oct 2025) EllapsedTime: 275.1 seconds RetCode: 0 Status: OK PackageFile: maftools_2.24.0.tar.gz PackageFileSize: 11.54 MiB