Package: made4 Version: 1.84.0 Command: /home/biocbuild/bbs-3.22-bioc/R/bin/R CMD INSTALL made4 StartedAt: 2025-11-11 15:24:53 -0500 (Tue, 11 Nov 2025) EndedAt: 2025-11-11 15:25:14 -0500 (Tue, 11 Nov 2025) EllapsedTime: 21.3 seconds RetCode: 0 Status: OK