Package: made4 Version: 1.82.0 Command: /home/biocbuild/R/R/bin/R CMD INSTALL made4 StartedAt: 2025-10-13 20:31:40 -0000 (Mon, 13 Oct 2025) EndedAt: 2025-10-13 20:32:12 -0000 (Mon, 13 Oct 2025) EllapsedTime: 32.0 seconds RetCode: 0 Status: OK