Package: made4 Version: 1.82.0 Command: /home/biocbuild/R/R/bin/R CMD build --keep-empty-dirs --no-resave-data made4 StartedAt: 2025-10-14 02:03:52 -0000 (Tue, 14 Oct 2025) EndedAt: 2025-10-14 02:04:46 -0000 (Tue, 14 Oct 2025) EllapsedTime: 54.0 seconds RetCode: 0 Status: OK PackageFile: made4_1.82.0.tar.gz PackageFileSize: 2.458 MiB