Package: maaslin3 Version: 1.2.0 Command: /Library/Frameworks/R.framework/Resources/bin/R CMD build --keep-empty-dirs --no-resave-data maaslin3 StartedAt: 2025-11-10 16:52:05 -0500 (Mon, 10 Nov 2025) EndedAt: 2025-11-10 16:55:45 -0500 (Mon, 10 Nov 2025) EllapsedTime: 219.5 seconds RetCode: 0 Status: OK PackageFile: maaslin3_1.2.0.tar.gz PackageFileSize: 1.089 MiB