Package: maaslin3 Version: 1.2.0 Command: rm -rf maaslin3.buildbin-libdir && mkdir maaslin3.buildbin-libdir && /Users/biocbuild/BBS/utils/build-universal.sh maaslin3_1.2.0.tar.gz /Library/Frameworks/R.framework/Resources/bin/R maaslin3.buildbin-libdir StartedAt: 2025-11-10 23:25:16 -0500 (Mon, 10 Nov 2025) EndedAt: 2025-11-10 23:25:29 -0500 (Mon, 10 Nov 2025) EllapsedTime: 13.3 seconds RetCode: 0 Status: OK PackageFile: maaslin3_1.2.0.tgz PackageFileSize: 1.263 MiB