Package: maSigPro Version: 1.80.0 Command: /home/biocbuild/R/R/bin/R CMD INSTALL maSigPro StartedAt: 2025-10-13 20:23:46 -0000 (Mon, 13 Oct 2025) EndedAt: 2025-10-13 20:23:53 -0000 (Mon, 13 Oct 2025) EllapsedTime: 6.6 seconds RetCode: 0 Status: OK