Package: maSigPro Version: 1.82.0 Command: /Library/Frameworks/R.framework/Resources/bin/R CMD INSTALL maSigPro StartedAt: 2025-11-06 15:06:52 -0500 (Thu, 06 Nov 2025) EndedAt: 2025-11-06 15:06:55 -0500 (Thu, 06 Nov 2025) EllapsedTime: 2.6 seconds RetCode: 0 Status: OK