Package: maSigPro Version: 1.82.0 Command: /Library/Frameworks/R.framework/Resources/bin/R CMD build --keep-empty-dirs --no-resave-data maSigPro StartedAt: 2025-11-06 16:53:06 -0500 (Thu, 06 Nov 2025) EndedAt: 2025-11-06 16:53:11 -0500 (Thu, 06 Nov 2025) EllapsedTime: 5.1 seconds RetCode: 0 Status: OK PackageFile: maSigPro_1.82.0.tar.gz PackageFileSize: 1.511 MiB