Package: maSigPro Version: 1.82.0 Command: rm -rf maSigPro.buildbin-libdir && mkdir maSigPro.buildbin-libdir && /Users/biocbuild/BBS/utils/build-universal.sh maSigPro_1.82.0.tar.gz /Library/Frameworks/R.framework/Resources/bin/R maSigPro.buildbin-libdir StartedAt: 2025-11-06 23:10:30 -0500 (Thu, 06 Nov 2025) EndedAt: 2025-11-06 23:10:33 -0500 (Thu, 06 Nov 2025) EllapsedTime: 3.0 seconds RetCode: 0 Status: OK PackageFile: maSigPro_1.82.0.tgz PackageFileSize: 1.685 MiB