Package: maPredictDSC Version: 1.48.0 Command: /home/biocbuild/R/R/bin/R CMD INSTALL maPredictDSC StartedAt: 2025-11-13 21:34:07 -0000 (Thu, 13 Nov 2025) EndedAt: 2025-11-13 21:34:39 -0000 (Thu, 13 Nov 2025) EllapsedTime: 31.9 seconds RetCode: 0 Status: OK