Package: maPredictDSC Version: 1.48.0 Command: /home/biocbuild/R/R/bin/R CMD build --keep-empty-dirs --no-resave-data maPredictDSC StartedAt: 2025-11-11 02:51:44 -0000 (Tue, 11 Nov 2025) EndedAt: 2025-11-11 03:31:45 -0000 (Tue, 11 Nov 2025) EllapsedTime: 2400.8 seconds RetCode: None Status: TIMEOUT PackageFile: None PackageFileSize: NA