Package: maPredictDSC Version: 1.46.0 Command: /Library/Frameworks/R.framework/Resources/bin/R CMD INSTALL maPredictDSC StartedAt: 2025-10-13 15:47:55 -0400 (Mon, 13 Oct 2025) EndedAt: 2025-10-13 15:48:48 -0400 (Mon, 13 Oct 2025) EllapsedTime: 52.4 seconds RetCode: 0 Status: OK