Package: maPredictDSC Version: 1.46.0 Command: /Library/Frameworks/R.framework/Resources/bin/R CMD build --keep-empty-dirs --no-resave-data maPredictDSC StartedAt: 2025-10-13 20:11:15 -0400 (Mon, 13 Oct 2025) EndedAt: 2025-10-13 20:15:48 -0400 (Mon, 13 Oct 2025) EllapsedTime: 273.1 seconds RetCode: 0 Status: OK PackageFile: maPredictDSC_1.46.0.tar.gz PackageFileSize: 197.5 KiB