Package: maCorrPlot Version: 1.80.0 Command: /home/biocbuild/R/R/bin/R CMD INSTALL maCorrPlot StartedAt: 2025-11-13 21:05:20 -0000 (Thu, 13 Nov 2025) EndedAt: 2025-11-13 21:06:02 -0000 (Thu, 13 Nov 2025) EllapsedTime: 41.9 seconds RetCode: 0 Status: OK