Package: maCorrPlot Version: 1.80.0 Command: /home/biocbuild/R/R/bin/R CMD build --keep-empty-dirs --no-resave-data maCorrPlot StartedAt: 2025-11-14 02:53:51 -0000 (Fri, 14 Nov 2025) EndedAt: 2025-11-14 02:53:57 -0000 (Fri, 14 Nov 2025) EllapsedTime: 6.0 seconds RetCode: 0 Status: OK PackageFile: maCorrPlot_1.80.0.tar.gz PackageFileSize: 1.26 MiB