Package: maCorrPlot Version: 1.80.0 Command: /home/biocbuild/bbs-3.22-bioc/R/bin/R CMD check --install=check:maCorrPlot.install-out.txt --library=/home/biocbuild/bbs-3.22-bioc/R/site-library --timings maCorrPlot_1.80.0.tar.gz StartedAt: 2025-11-12 01:03:55 -0500 (Wed, 12 Nov 2025) EndedAt: 2025-11-12 01:04:17 -0500 (Wed, 12 Nov 2025) EllapsedTime: 22.0 seconds RetCode: 0 Status: OK CheckDir: maCorrPlot.Rcheck Warnings: 0