Package: maCorrPlot Version: 1.78.0 Command: /home/biocbuild/bbs-3.21-bioc/R/bin/R CMD INSTALL maCorrPlot StartedAt: 2025-10-05 15:03:55 -0400 (Sun, 05 Oct 2025) EndedAt: 2025-10-05 15:04:19 -0400 (Sun, 05 Oct 2025) EllapsedTime: 23.6 seconds RetCode: 0 Status: OK