Package: maCorrPlot Version: 1.78.0 Command: /home/biocbuild/bbs-3.21-bioc/R/bin/R CMD build --keep-empty-dirs --no-resave-data maCorrPlot StartedAt: 2025-10-05 18:17:12 -0400 (Sun, 05 Oct 2025) EndedAt: 2025-10-05 18:17:18 -0400 (Sun, 05 Oct 2025) EllapsedTime: 6.0 seconds RetCode: 0 Status: OK PackageFile: maCorrPlot_1.78.0.tar.gz PackageFileSize: 1.264 MiB