Package: mCSEA Version: 1.30.0 Command: /home/biocbuild/bbs-3.22-bioc/R/bin/R CMD build --keep-empty-dirs --no-resave-data --md5 mCSEA StartedAt: 2025-11-11 18:36:26 -0500 (Tue, 11 Nov 2025) EndedAt: 2025-11-11 18:38:56 -0500 (Tue, 11 Nov 2025) EllapsedTime: 149.2 seconds RetCode: 1 Status: ERROR PackageFile: None PackageFileSize: NA