Package: mCSEA Version: 1.30.0 Command: /Library/Frameworks/R.framework/Resources/bin/R CMD INSTALL mCSEA StartedAt: 2025-11-03 15:52:40 -0500 (Mon, 03 Nov 2025) EndedAt: 2025-11-03 15:53:30 -0500 (Mon, 03 Nov 2025) EllapsedTime: 50.3 seconds RetCode: 0 Status: OK