Package: mCSEA Version: 1.30.0 Command: /Library/Frameworks/R.framework/Resources/bin/R CMD build --keep-empty-dirs --no-resave-data mCSEA StartedAt: 2025-11-03 17:37:53 -0500 (Mon, 03 Nov 2025) EndedAt: 2025-11-03 17:40:33 -0500 (Mon, 03 Nov 2025) EllapsedTime: 160.1 seconds RetCode: 1 Status: ERROR PackageFile: None PackageFileSize: NA