Package: mCSEA Version: 1.28.0 Command: /home/biocbuild/R/R/bin/R CMD INSTALL mCSEA StartedAt: 2025-10-13 21:17:28 -0000 (Mon, 13 Oct 2025) EndedAt: 2025-10-13 21:18:24 -0000 (Mon, 13 Oct 2025) EllapsedTime: 56.4 seconds RetCode: 0 Status: OK