Package: mCSEA Version: 1.28.0 Command: /home/biocbuild/R/R/bin/R CMD build --keep-empty-dirs --no-resave-data mCSEA StartedAt: 2025-10-14 02:11:37 -0000 (Tue, 14 Oct 2025) EndedAt: 2025-10-14 02:16:09 -0000 (Tue, 14 Oct 2025) EllapsedTime: 272.1 seconds RetCode: 0 Status: OK PackageFile: mCSEA_1.28.0.tar.gz PackageFileSize: 1.838 MiB