Package: mBPCR Version: 1.64.0 Command: /home/biocbuild/R/R/bin/R CMD INSTALL mBPCR StartedAt: 2025-11-13 21:26:46 -0000 (Thu, 13 Nov 2025) EndedAt: 2025-11-13 21:27:25 -0000 (Thu, 13 Nov 2025) EllapsedTime: 39.2 seconds RetCode: 0 Status: OK