Package: mBPCR Version: 1.64.0 Command: /home/biocbuild/R/R/bin/R CMD build --keep-empty-dirs --no-resave-data mBPCR StartedAt: 2025-11-14 03:02:16 -0000 (Fri, 14 Nov 2025) EndedAt: 2025-11-14 03:03:30 -0000 (Fri, 14 Nov 2025) EllapsedTime: 74.0 seconds RetCode: 0 Status: OK PackageFile: mBPCR_1.64.0.tar.gz PackageFileSize: 826.1 KiB