Package: mBPCR Version: 1.64.0 Command: /home/biocbuild/bbs-3.22-bioc/R/bin/R CMD INSTALL mBPCR StartedAt: 2025-11-11 15:25:29 -0500 (Tue, 11 Nov 2025) EndedAt: 2025-11-11 15:25:59 -0500 (Tue, 11 Nov 2025) EllapsedTime: 29.9 seconds RetCode: 0 Status: OK