Package: mBPCR Version: 1.64.0 Command: /home/biocbuild/bbs-3.22-bioc/R/bin/R CMD build --keep-empty-dirs --no-resave-data --md5 mBPCR StartedAt: 2025-11-11 18:35:41 -0500 (Tue, 11 Nov 2025) EndedAt: 2025-11-11 18:36:34 -0500 (Tue, 11 Nov 2025) EllapsedTime: 53.0 seconds RetCode: 0 Status: OK PackageFile: mBPCR_1.64.0.tar.gz PackageFileSize: 836.8 KiB