Package: mBPCR Version: 1.62.0 Command: /Library/Frameworks/R.framework/Resources/bin/R CMD INSTALL mBPCR StartedAt: 2025-10-13 16:18:15 -0400 (Mon, 13 Oct 2025) EndedAt: 2025-10-13 16:18:51 -0400 (Mon, 13 Oct 2025) EllapsedTime: 36.5 seconds RetCode: 0 Status: OK