Package: m6Aboost Version: 1.16.0 Command: /home/biocbuild/R/R/bin/R CMD INSTALL m6Aboost StartedAt: 2025-11-10 22:05:34 -0000 (Mon, 10 Nov 2025) EndedAt: 2025-11-10 22:06:33 -0000 (Mon, 10 Nov 2025) EllapsedTime: 59.4 seconds RetCode: 0 Status: OK