Package: m6Aboost Version: 1.16.0 Command: /home/biocbuild/R/R/bin/R CMD build --keep-empty-dirs --no-resave-data m6Aboost StartedAt: 2025-11-14 02:53:30 -0000 (Fri, 14 Nov 2025) EndedAt: 2025-11-14 02:55:08 -0000 (Fri, 14 Nov 2025) EllapsedTime: 98.1 seconds RetCode: 0 Status: OK PackageFile: m6Aboost_1.16.0.tar.gz PackageFileSize: 824.5 KiB