Package: m6Aboost Version: 1.16.0 Command: /home/biocbuild/bbs-3.22-bioc/R/bin/R CMD INSTALL m6Aboost StartedAt: 2025-11-13 16:00:01 -0500 (Thu, 13 Nov 2025) EndedAt: 2025-11-13 16:00:46 -0500 (Thu, 13 Nov 2025) EllapsedTime: 44.6 seconds RetCode: 0 Status: OK