Package: m6Aboost Version: 1.16.0 Command: /home/biocbuild/bbs-3.22-bioc/R/bin/R CMD build --keep-empty-dirs --no-resave-data --md5 m6Aboost StartedAt: 2025-11-13 18:28:17 -0500 (Thu, 13 Nov 2025) EndedAt: 2025-11-13 18:29:31 -0500 (Thu, 13 Nov 2025) EllapsedTime: 74.1 seconds RetCode: 0 Status: OK PackageFile: m6Aboost_1.16.0.tar.gz PackageFileSize: 759.5 KiB