Package: m6Aboost Version: 1.14.0 Command: /Library/Frameworks/R.framework/Resources/bin/R CMD INSTALL m6Aboost StartedAt: 2025-10-09 16:43:32 -0400 (Thu, 09 Oct 2025) EndedAt: 2025-10-09 16:45:03 -0400 (Thu, 09 Oct 2025) EllapsedTime: 91.3 seconds RetCode: 0 Status: OK