Package: m6Aboost Version: 1.14.0 Command: /Library/Frameworks/R.framework/Resources/bin/R CMD INSTALL m6Aboost StartedAt: 2025-09-25 18:27:21 -0400 (Thu, 25 Sep 2025) EndedAt: 2025-09-25 18:28:13 -0400 (Thu, 25 Sep 2025) EllapsedTime: 51.4 seconds RetCode: 0 Status: OK