Package: lute Version: 1.6.0 Command: /home/biocbuild/bbs-3.22-bioc/R/bin/R CMD INSTALL lute StartedAt: 2025-11-11 16:01:14 -0500 (Tue, 11 Nov 2025) EndedAt: 2025-11-11 16:01:45 -0500 (Tue, 11 Nov 2025) EllapsedTime: 31.1 seconds RetCode: 0 Status: OK