Package: lute Version: 1.6.0 Command: /Library/Frameworks/R.framework/Resources/bin/R CMD INSTALL lute StartedAt: 2025-11-03 15:54:06 -0500 (Mon, 03 Nov 2025) EndedAt: 2025-11-03 15:54:49 -0500 (Mon, 03 Nov 2025) EllapsedTime: 42.5 seconds RetCode: 0 Status: OK