Package: lute Version: 1.6.0 Command: /Library/Frameworks/R.framework/Resources/bin/R CMD build --keep-empty-dirs --no-resave-data lute StartedAt: 2025-11-03 17:34:42 -0500 (Mon, 03 Nov 2025) EndedAt: 2025-11-03 17:35:45 -0500 (Mon, 03 Nov 2025) EllapsedTime: 62.9 seconds RetCode: 0 Status: OK PackageFile: lute_1.6.0.tar.gz PackageFileSize: 2.236 MiB